BEGIN:VCALENDAR
VERSION:2.0
PRODID:-//Rumbling Bald on Lake Lure | NC - ECPv6.15.20//NONSGML v1.0//EN
CALSCALE:GREGORIAN
METHOD:PUBLISH
X-WR-CALNAME:Rumbling Bald on Lake Lure | NC
X-ORIGINAL-URL:https://rumblingbald.com
X-WR-CALDESC:Events for Rumbling Bald on Lake Lure | NC
REFRESH-INTERVAL;VALUE=DURATION:PT1H
X-Robots-Tag:noindex
X-PUBLISHED-TTL:PT1H
BEGIN:VTIMEZONE
TZID:America/New_York
BEGIN:DAYLIGHT
TZOFFSETFROM:-0500
TZOFFSETTO:-0400
TZNAME:EDT
DTSTART:20250309T070000
END:DAYLIGHT
BEGIN:STANDARD
TZOFFSETFROM:-0400
TZOFFSETTO:-0500
TZNAME:EST
DTSTART:20251102T060000
END:STANDARD
BEGIN:DAYLIGHT
TZOFFSETFROM:-0500
TZOFFSETTO:-0400
TZNAME:EDT
DTSTART:20260308T070000
END:DAYLIGHT
BEGIN:STANDARD
TZOFFSETFROM:-0400
TZOFFSETTO:-0500
TZNAME:EST
DTSTART:20261101T060000
END:STANDARD
BEGIN:DAYLIGHT
TZOFFSETFROM:-0500
TZOFFSETTO:-0400
TZNAME:EDT
DTSTART:20270314T070000
END:DAYLIGHT
BEGIN:STANDARD
TZOFFSETFROM:-0400
TZOFFSETTO:-0500
TZNAME:EST
DTSTART:20271107T060000
END:STANDARD
END:VTIMEZONE
BEGIN:VEVENT
DTSTART;VALUE=DATE:20260601
DTEND;VALUE=DATE:20260802
DTSTAMP:20260422T014923
CREATED:20260417T153217Z
LAST-MODIFIED:20260417T153217Z
UID:10056618-1780286400-1785556799@rumblingbald.com
SUMMARY:Men's Match Play 2026
DESCRIPTION:1st Round: June 1st-June 15th at Apple Valley\n2nd Round: June 16th-June 30th at Bald Mountain\n3rd Round/Semifinals:July 1st-July 20th at Bald Mountain\nFinals: July 21st-July 31st at Apple Valley \n\nPlayers will receive 100% of their handicap. We will use the daily updated handicap from GHIN.\nA player may choose to play from either the Yellow (if 65 or older) or White Tees and will receive the handicap shots from those tees.\nThere will be no adjustments made for players competing from different sets of tees. \n\nPlayers will notify the shop when they check in that they are playing their match. They will receive a scorecard for their match\, which must be turned in after play. \nOpen to POA/MGA/GOLF/PREMIER Members. \nThe $20 entry fee must be paid before your first match is played. \nFor more information\, please call the Pro Shop 828.694.3042.
URL:https://rumblingbald.com/event/mens-match-play-2026/
LOCATION:Rumbling Bald on Lake Lure\, 112 Mountains Blvd.\, Lake Lure\, NC\, 28746\, United States
CATEGORIES:Golf,Member Event,Golf Tournament
ATTACH;FMTTYPE=image/jpeg:https://rumblingbald.com/wp-content/uploads/2023/04/AV-11-a.jpg
END:VEVENT
BEGIN:VEVENT
DTSTART;TZID=America/New_York:20260706T190000
DTEND;TZID=America/New_York:20260706T203000
DTSTAMP:20260422T014923
CREATED:20260318T170133Z
LAST-MODIFIED:20260410T132120Z
UID:10056604-1783364400-1783369800@rumblingbald.com
SUMMARY:Bingo Night
DESCRIPTION:Presented by the Lake Lure Lions Club \nEvery Monday Night on the Lakeview Terrace from 7-8:30pm \nMay 25th – August 31st\, 2026 \nGames\, Fun\, and Prizes. Fun for the whole family. Bingo cards are $3 each OR two for $5. (cash only) \n\nTime: 7:00–8:30pm\nBingo Cards: $3 each or 2 for $5 (cash only)\n\nThis weekly event is open to the public and perfect for all ages. Seating is limited and available on a first-come\, first-served basis—so arrive early and bring your lucky charm! \nSeating is limited. This event is open to both Members and Guests. \nEvent dates\, times\, and locations are subject to change without notice.
URL:https://rumblingbald.com/event/bingo-night-2026/2026-07-06/
LOCATION:Lakeview Terrace\, 153 Mountains Blvd\, Lake Lure\, NC\, 28746\, United States
CATEGORIES:Family Entertainment,Lake Lure Community Event,Member Event
ATTACH;FMTTYPE=image/png:https://rumblingbald.com/wp-content/uploads/2024/05/Bingo.png
END:VEVENT
BEGIN:VEVENT
DTSTART;TZID=America/New_York:20260713T190000
DTEND;TZID=America/New_York:20260713T203000
DTSTAMP:20260422T014923
CREATED:20260318T170133Z
LAST-MODIFIED:20260410T132120Z
UID:10056605-1783969200-1783974600@rumblingbald.com
SUMMARY:Bingo Night
DESCRIPTION:Presented by the Lake Lure Lions Club \nEvery Monday Night on the Lakeview Terrace from 7-8:30pm \nMay 25th – August 31st\, 2026 \nGames\, Fun\, and Prizes. Fun for the whole family. Bingo cards are $3 each OR two for $5. (cash only) \n\nTime: 7:00–8:30pm\nBingo Cards: $3 each or 2 for $5 (cash only)\n\nThis weekly event is open to the public and perfect for all ages. Seating is limited and available on a first-come\, first-served basis—so arrive early and bring your lucky charm! \nSeating is limited. This event is open to both Members and Guests. \nEvent dates\, times\, and locations are subject to change without notice.
URL:https://rumblingbald.com/event/bingo-night-2026/2026-07-13/
LOCATION:Lakeview Terrace\, 153 Mountains Blvd\, Lake Lure\, NC\, 28746\, United States
CATEGORIES:Family Entertainment,Lake Lure Community Event,Member Event
ATTACH;FMTTYPE=image/png:https://rumblingbald.com/wp-content/uploads/2024/05/Bingo.png
END:VEVENT
BEGIN:VEVENT
DTSTART;TZID=America/New_York:20260720T190000
DTEND;TZID=America/New_York:20260720T203000
DTSTAMP:20260422T014923
CREATED:20260318T170133Z
LAST-MODIFIED:20260410T132120Z
UID:10056606-1784574000-1784579400@rumblingbald.com
SUMMARY:Bingo Night
DESCRIPTION:Presented by the Lake Lure Lions Club \nEvery Monday Night on the Lakeview Terrace from 7-8:30pm \nMay 25th – August 31st\, 2026 \nGames\, Fun\, and Prizes. Fun for the whole family. Bingo cards are $3 each OR two for $5. (cash only) \n\nTime: 7:00–8:30pm\nBingo Cards: $3 each or 2 for $5 (cash only)\n\nThis weekly event is open to the public and perfect for all ages. Seating is limited and available on a first-come\, first-served basis—so arrive early and bring your lucky charm! \nSeating is limited. This event is open to both Members and Guests. \nEvent dates\, times\, and locations are subject to change without notice.
URL:https://rumblingbald.com/event/bingo-night-2026/2026-07-20/
LOCATION:Lakeview Terrace\, 153 Mountains Blvd\, Lake Lure\, NC\, 28746\, United States
CATEGORIES:Family Entertainment,Lake Lure Community Event,Member Event
ATTACH;FMTTYPE=image/png:https://rumblingbald.com/wp-content/uploads/2024/05/Bingo.png
END:VEVENT
BEGIN:VEVENT
DTSTART;TZID=America/New_York:20260727T190000
DTEND;TZID=America/New_York:20260727T203000
DTSTAMP:20260422T014923
CREATED:20260318T170133Z
LAST-MODIFIED:20260410T132120Z
UID:10056607-1785178800-1785184200@rumblingbald.com
SUMMARY:Bingo Night
DESCRIPTION:Presented by the Lake Lure Lions Club \nEvery Monday Night on the Lakeview Terrace from 7-8:30pm \nMay 25th – August 31st\, 2026 \nGames\, Fun\, and Prizes. Fun for the whole family. Bingo cards are $3 each OR two for $5. (cash only) \n\nTime: 7:00–8:30pm\nBingo Cards: $3 each or 2 for $5 (cash only)\n\nThis weekly event is open to the public and perfect for all ages. Seating is limited and available on a first-come\, first-served basis—so arrive early and bring your lucky charm! \nSeating is limited. This event is open to both Members and Guests. \nEvent dates\, times\, and locations are subject to change without notice.
URL:https://rumblingbald.com/event/bingo-night-2026/2026-07-27/
LOCATION:Lakeview Terrace\, 153 Mountains Blvd\, Lake Lure\, NC\, 28746\, United States
CATEGORIES:Family Entertainment,Lake Lure Community Event,Member Event
ATTACH;FMTTYPE=image/png:https://rumblingbald.com/wp-content/uploads/2024/05/Bingo.png
END:VEVENT
END:VCALENDAR