BEGIN:VCALENDAR
VERSION:2.0
PRODID:-//Rumbling Bald on Lake Lure | NC - ECPv6.15.20//NONSGML v1.0//EN
CALSCALE:GREGORIAN
METHOD:PUBLISH
X-WR-CALNAME:Rumbling Bald on Lake Lure | NC
X-ORIGINAL-URL:https://rumblingbald.com
X-WR-CALDESC:Events for Rumbling Bald on Lake Lure | NC
REFRESH-INTERVAL;VALUE=DURATION:PT1H
X-Robots-Tag:noindex
X-PUBLISHED-TTL:PT1H
BEGIN:VTIMEZONE
TZID:America/New_York
BEGIN:DAYLIGHT
TZOFFSETFROM:-0500
TZOFFSETTO:-0400
TZNAME:EDT
DTSTART:20250309T070000
END:DAYLIGHT
BEGIN:STANDARD
TZOFFSETFROM:-0400
TZOFFSETTO:-0500
TZNAME:EST
DTSTART:20251102T060000
END:STANDARD
BEGIN:DAYLIGHT
TZOFFSETFROM:-0500
TZOFFSETTO:-0400
TZNAME:EDT
DTSTART:20260308T070000
END:DAYLIGHT
BEGIN:STANDARD
TZOFFSETFROM:-0400
TZOFFSETTO:-0500
TZNAME:EST
DTSTART:20261101T060000
END:STANDARD
BEGIN:DAYLIGHT
TZOFFSETFROM:-0500
TZOFFSETTO:-0400
TZNAME:EDT
DTSTART:20270314T070000
END:DAYLIGHT
BEGIN:STANDARD
TZOFFSETFROM:-0400
TZOFFSETTO:-0500
TZNAME:EST
DTSTART:20271107T060000
END:STANDARD
END:VTIMEZONE
BEGIN:VEVENT
DTSTART;TZID=America/New_York:20260422T180000
DTEND;TZID=America/New_York:20260422T200000
DTSTAMP:20260422T080722
CREATED:20260402T181328Z
LAST-MODIFIED:20260402T181328Z
UID:10056595-1776880800-1776888000@rumblingbald.com
SUMMARY:Trivia Night
DESCRIPTION:Challenge your mind and put your knowledge to the test with Trivia Night. For seating purposes\, teams are limited to 10 people per group. The Legends regular menu will be available during trivia nights along with full bar service. Don’t have a team formed? No worries. We will have a “super singles” group for any solo participants.\n \nSeating is limited.\nMembers\, Lodging Guests\, and Locals are welcome. Doors open at 5:30pm
URL:https://rumblingbald.com/event/trivia-night-2/2026-04-22/
LOCATION:Legends on the Lake Game Room
CATEGORIES:Family Entertainment,Lake Lure Community Event
ATTACH;FMTTYPE=image/png:https://rumblingbald.com/wp-content/uploads/2024/11/Trivia-Night-Bulb.png
END:VEVENT
BEGIN:VEVENT
DTSTART;TZID=America/New_York:20260501T083000
DTEND;TZID=America/New_York:20260501T140000
DTSTAMP:20260422T080722
CREATED:20260310T133708Z
LAST-MODIFIED:20260310T133754Z
UID:10056550-1777624200-1777644000@rumblingbald.com
SUMMARY:40th Annual Lake Lure Lions Club Open Golf Tournament
DESCRIPTION:Sponsored by the Lake Lure Lions Club and hosted at the Bald Mountain Golf Course \nFormat \n\nSign up a Team or individually (we will place you on a team). Print your name\, USGA or GHIN handicap index (handicap must be verified.) If you do not have a verifiable handicap\, you will need to call Adam Bowles (828) 694-3040 to discuss. If you are unable to submit a handicap\, you will be given a handicap of 0.\nScoring will be Handicapped Scramble.\nMen 56 and over will play from yellow tees. Men 55 and younger will play from white tees. Women will play from red tees.\nEntry fee is $100 per player. Cash or check only; NO CREDIT CARDS. Entry fee includes all golf fees\, coffee and donuts prior to 8:30am shotgun start. A lunch is included in the tournament fee.\nPrizes – Men’s and Women’s Divisions:\n– Prizes for Winners – Overall Low Gross Team and 1st and 2nd Place Low Net Teams – will be Pro Shop Gift Certificates (Men and Women)\n– Cash prizes for Men’s Closest to Pin on #2; Women’s Closest to Pin on #16\n– Hole-in-One on hole #6 is $200 Cash. More than (1) will split the prize.\nRegular mulligans and NEW super mulligans will be on sale.\n50/50 Raffle tickets will be on sale\n\nAll proceeds will go toward Lake Lure Lions Club work in the Community! \nEntry Information \n\nDeadline for entry is at 5pm on April 28th\, 2026.\nFor additional information call: (828) 694-3040 (Adam Bowles) or (772) 696-5343 (Mary Ellen Jones)\nMake checks payable to: Lake Lure Lions Club\nMail checks and entry form to: Lake Lure Lions Club\, c/o Mary Ellen Jones\, 202 Sheepnose Drive\, Lake Lure\, NC 28746 (Or turn into Bald Mountain Pro Shop)\n\nHow to register\nSign up at either Pro Shop by April 28th\, 2026. For more information\, please call (828) 694-3042. \nDownload an Entry Form
URL:https://rumblingbald.com/event/40th-annual-lake-lure-lions-club-open-golf-tournament/
LOCATION:Bald Mountain Golf Course\, 162 Mountains Blvd.\, Lake Lure\, NC\, 28746\, United States
CATEGORIES:Golf,Lake Lure Community Event,Golf Tournament
ATTACH;FMTTYPE=image/png:https://rumblingbald.com/wp-content/uploads/2024/03/Screenshot-2024-03-20-at-4.00.02 PM.png
END:VEVENT
BEGIN:VEVENT
DTSTART;TZID=America/New_York:20260525T190000
DTEND;TZID=America/New_York:20260525T203000
DTSTAMP:20260422T080722
CREATED:20260318T170133Z
LAST-MODIFIED:20260410T132120Z
UID:10053912-1779735600-1779741000@rumblingbald.com
SUMMARY:Bingo Night
DESCRIPTION:Presented by the Lake Lure Lions Club \nEvery Monday Night on the Lakeview Terrace from 7-8:30pm \nMay 25th – August 31st\, 2026 \nGames\, Fun\, and Prizes. Fun for the whole family. Bingo cards are $3 each OR two for $5. (cash only) \n\nTime: 7:00–8:30pm\nBingo Cards: $3 each or 2 for $5 (cash only)\n\nThis weekly event is open to the public and perfect for all ages. Seating is limited and available on a first-come\, first-served basis—so arrive early and bring your lucky charm! \nSeating is limited. This event is open to both Members and Guests. \nEvent dates\, times\, and locations are subject to change without notice.
URL:https://rumblingbald.com/event/bingo-night-2026/2026-05-25/
LOCATION:Lakeview Terrace\, 153 Mountains Blvd\, Lake Lure\, NC\, 28746\, United States
CATEGORIES:Family Entertainment,Lake Lure Community Event,Member Event
ATTACH;FMTTYPE=image/png:https://rumblingbald.com/wp-content/uploads/2024/05/Bingo.png
END:VEVENT
BEGIN:VEVENT
DTSTART;TZID=America/New_York:20260604T180000
DTEND;TZID=America/New_York:20260604T210000
DTSTAMP:20260422T080722
CREATED:20260324T153818Z
LAST-MODIFIED:20260324T153926Z
UID:10056558-1780596000-1780606800@rumblingbald.com
SUMMARY:Karaoke Night Party
DESCRIPTION:Get ready to sing the night away with Karaoke Night at Rumbling Bald! \nJoin us every other Wednesday evening (alternating with Trivia Night) on the Lakeview Terrace from 6–10pm (doors open at 5:30pm). \n\nFamily-Friendly Hours: 6–7:30pm\nBring the kids along for a delightful karaoke hour suitable for all ages.\nAdults Only After 8pm. Starting at 8pm\, the microphone will be exclusively for those 21+.\n\nFood and bar service will be available from designated areas on the Terrace. This event is free and open to the public. Please note that seating is limited and not guaranteed; it will be allocated on a first-come\, first-served basis.
URL:https://rumblingbald.com/event/karaoke-night-party-2/2026-06-04/
LOCATION:Lakeview Terrace\, 153 Mountains Blvd\, Lake Lure\, NC\, 28746\, United States
CATEGORIES:Family Entertainment,Lake Lure Community Event
ATTACH;FMTTYPE=image/png:https://rumblingbald.com/wp-content/uploads/2026/03/2026-Karaoke-Night-Flyer.png
END:VEVENT
BEGIN:VEVENT
DTSTART;TZID=America/New_York:20260613T170000
DTEND;TZID=America/New_York:20260613T200000
DTSTAMP:20260422T080722
CREATED:20260216T152316Z
LAST-MODIFIED:20260310T132558Z
UID:10056543-1781370000-1781380800@rumblingbald.com
SUMMARY:Lake Lure Music Festival
DESCRIPTION:Come Back to Lake Lure Bluegrass Concert featuring The Po’ Ramblin’ Boys. \n \n\nGRAMMY Nominated Bluegrass Music\n5x IBMA Entertainer of the Year Nominee\n\nSaturday\, June 13\, 2026 starting at 5pm at Rumbling Bald on Lake Lure’s Beach Pavilion. \nOpening this year’s festival Carley Arrowood & Daniel Thrailkill. \n \nPlease visit the Lake Lure Music Festival’s website for more information and tickets.
URL:https://rumblingbald.com/event/lake-lure-music-festival-2026/
LOCATION:Rumbling Bald on Lake Lure\, 112 Mountains Blvd.\, Lake Lure\, NC\, 28746\, United States
CATEGORIES:Lake Lure Community Event,Regional Area Event,Live Music
ATTACH;FMTTYPE=image/png:https://rumblingbald.com/wp-content/uploads/2026/02/LLMF-Mountain-Breeze-2026.png
END:VEVENT
END:VCALENDAR